BEGIN:VCALENDAR
VERSION:2.0
PRODID:-//ccrcinc.com//NONSGML kigkonsult.se iCalcreator 2.30.10//
CALSCALE:GREGORIAN
METHOD:PUBLISH
UID:e011318d-c2ad-4592-bfd3-c47e1828f3c2
X-WR-CALDESC:'Won't You Be My Neighbor?' Fred Rogers Conference seeks to ap
 ply and advance the legacy of Fred Rogers in serving children and their he
 lpers. Through projects involving children’s helpers across many diverse s
 ettings\, including child care\, school systems\, community programs\, res
 idential care\, and children’s hospitals\, the conference communicates and
  reflects what is simple and deep about work in service of children and th
 eir families. \n\nDate:         January 6\, 2020\nLocation:  617 Broadway 
 Ave\, Lorain\, OH 44052\nTime:        9:30 - 3:00pm  - lunch and viewing t
 he Fred Rogers Documentary included\n\n$65 regular registration - includes
 :\n-View Mr. Roger's show items at lunch break\n-Conference and documentar
 y -  2.5 Ohio Approved hours\n-The World According to Mister Rogers book -
  raffle opportunity\n\n$125 VIP registration/Group Rates -Unavailable afte
 r 12/17/2019\n\n Contact 440-242-0413 ext. 235
X-WR-RELCALID:d9c445a5fd03f97a65fef5516172577c
X-WR-TIMEZONE:America/New_York
BEGIN:VTIMEZONE
TZID:America/New_York
BEGIN:STANDARD
TZNAME:EST
DTSTART:20191103T020000
TZOFFSETFROM:-0400
TZOFFSETTO:-0500
RDATE:20201101T020000
END:STANDARD
BEGIN:DAYLIGHT
TZNAME:EDT
DTSTART:20190310T020000
TZOFFSETFROM:-0500
TZOFFSETTO:-0400
RDATE:20200308T020000
RDATE:20210314T020000
END:DAYLIGHT
END:VTIMEZONE
BEGIN:VEVENT
UID:506ec127-80ff-4ab7-958d-28f3d0c03599
DTSTAMP:20260422T163520Z
DESCRIPTION:'Won't You Be My Neighbor?' Fred Rogers Conference seeks to app
 ly and advance the legacy of Fred Rogers in serving children and their hel
 pers. Through projects involving children’s helpers across many diverse se
 ttings\, including child care\, school systems\, community programs\, resi
 dential care\, and children’s hospitals\, the conference communicates and 
 reflects what is simple and deep about work in service of children and the
 ir families. \n\nDate:         January 6\, 2020\nLocation:  617 Broadway A
 ve\, Lorain\, OH 44052\nTime:        9:30 - 3:00pm  - lunch and viewing th
 e Fred Rogers Documentary included\n\n$65 regular registration - includes:
 \n-View Mr. Roger's show items at lunch break\n-Conference and documentary
  -  2.5 Ohio Approved hours\n-The World According to Mister Rogers book - 
 raffle opportunity\n\n$125 VIP registration/Group Rates -Unavailable after
  12/17/2019\n\n Contact 440-242-0413 ext. 235
DTSTART;TZID=America/New_York:20200106T093000
DTEND;TZID=America/New_York:20200106T150000
LOCATION:617 Broadway Ave\, Lorain\, OH 44052
SUMMARY:'Won't You Be My Neighbor?' Fred Rogers Conference
END:VEVENT
END:VCALENDAR
